BEGIN:VCALENDAR
VERSION:2.0
X-WR-TIMEZONE:Europe/Paris
PRODID:-//Audencia//NONSGML v1.0//EN
CALSCALE:GREGORIAN
BEGIN:VEVENT
SUMMARY:ANNULE - Club assurance - Partage d'expériences
DTSTART:20220622T193000
DTEND:20220622T213000
UID:1301
DTSTAMP:20260425T210049
LOCATION:Campus Paris 95, rue Falguière - 75015 Paris
DESCRIPTION:ANNULATION\n\n\nPlongée dans l’univers des sinistres :\nque se passe-t-il  lors d’un rappel de produits ?\n\n- Venez échanger et partager vos retours d'expérience -\n\n\n\nLes Ambassadrices du club Assurance, Virginie Buquet (GE 02), Gaëlle Gaudicheau (MBA 12) et Oriane Valdelièvre (GE 13), vous proposent de vous retrouver le mercredi 22 juin à 19h30 en présentiel sur le campus parisien (95, rue Falguière). L'occasion de partager un verre, après les témoignages, et de poursuivre les échanges.\n\n\nAu programme :\n\n\n\nJean-Baptiste Tesson (Exec MBA 19), Associé de TESSON DE FROMENT - SAFIAG, nous dévoilera la gestion des sinistres lorsqu'un produit de grande consommation est rappelé.\n\n\n\n2ème témoignage, prochainement communiqué !\n\n\n\nVous avez la parole !\nEt vous ? Si vous partagiez également votre expérience ? N'hésitez pas à envoyer un e-mail à lcaliez@audencia.com pour soumettre un sujet.\n \n\n\n\n 
BEGIN:VALARM
ACTION:DISPLAY
TRIGGER:-PT60M
DESCRIPTION:ANNULE - Club assurance - Partage d'expériences
END:VALARM
END:VEVENT
END:VCALENDAR