BEGIN:VCALENDAR
VERSION:2.0
X-WR-TIMEZONE:Europe/Paris
PRODID:-//Audencia//NONSGML v1.0//EN
CALSCALE:GREGORIAN
BEGIN:VEVENT
SUMMARY:Visite Entreprise SYSTOVI à Nantes
DTSTART:20171207T183000
DTEND:20260425T210030
UID:130
DTSTAMP:20260425T210030
LOCATION:5, rue du Chêne Lassé 44800 Saint-Herblain
DESCRIPTION:- ANNULE -\n\nDécouvrez les coulisses\nde la référence de l'aérovoltaïque\n\n \n\nVenez découvrir Systovi, une société innovante et orientée Green Tech, créateur et fabricant de solutions multi-énergies innovantes dédiées à l’habitat.\n\n	  pionnière de nouvelles technologies de référence comme l’aérovoltaïque :\n	  récompensée par le Grand Prix de l’efficacité énergétique de BATIMAT :\n	  a commercialisé le 1er chauffe-eau thermodynamique sur air solaire...\n\n\nLe Chapter Nantes a le plaisir de vous permettre de rencontrer l'entrepreneur de cette entreprise créée en 2008 et qui n'a cessé d'innover en matière de couvertures solaires polyvalentes.\nCette visite sera suivie d'un temps d'échanges.\n \n\n\n\n 
BEGIN:VALARM
ACTION:DISPLAY
TRIGGER:-PT60M
DESCRIPTION:Visite Entreprise SYSTOVI à Nantes
END:VALARM
END:VEVENT
END:VCALENDAR