BEGIN:VCALENDAR
VERSION:2.0
X-WR-TIMEZONE:Europe/Paris
PRODID:-//Audencia//NONSGML v1.0//EN
CALSCALE:GREGORIAN
BEGIN:VEVENT
SUMMARY:Networking in Mumbai, India
DTSTART:20170317T180000
DTEND:20170317T210000
UID:13
DTSTAMP:20260425T205727
LOCATION:S.P. Jain Institute of Management & Research Munshi Nagar, Dadabhai Road, Andheri West, Mumbai 400 058 India
DESCRIPTION:AMBA, the Association of MBAs, is organising a networking event.\n\nJoin them in Mumbai on Friday 17 March for the perfect opportunity to network with fellow students and graduates of AMBA-accredited programmes.\nRegister for free today >>\n\nLocation: S.P. Jain Institute of Management & Research\nDate: 17 March 2017\nTime: 18.00 to 21.00\n\nAddress: Munshi Nagar, Dadabhai Road\nAndheri West\nMumbai 400 058\n\nThis event is aimed at alumni of AMBA-accredited programmes. At Audencia, these programmes are: Executive MBA, MBA in Responsible Management and Master in Management (Grande Ecole Programme). The event is free for AMBA members but registration is required. Registering as an alumus/alumna of an AMBA-accredited programme takes only a few minutes.\nGo to www.mbaworld.com/communitysignup \n\n	complete your personal details\n	select ‘Graduate’ from the ‘I am a’ drop down\n	select your Business School\n	enter the following access key: G25912\n\nOnce you have registered as an AMBA alum, you can register for the event.\n\nIf you have any questions about registering, please contact the AMBA Membership Team who will be happy to help.\n 
BEGIN:VALARM
ACTION:DISPLAY
TRIGGER:-PT60M
DESCRIPTION:Networking in Mumbai, India
END:VALARM
END:VEVENT
END:VCALENDAR