BEGIN:VCALENDAR
VERSION:2.0
X-WR-TIMEZONE:Europe/Paris
PRODID:-//Audencia//NONSGML v1.0//EN
CALSCALE:GREGORIAN
BEGIN:VEVENT
SUMMARY:GE 1988 > 1992 : après-midi et soirée REVIVAL !
DTSTART:20220514T150000
DTEND:20220515T040000
UID:1299
DTSTAMP:20260425T211354
LOCATION:Nantes
DESCRIPTION:\n \n\n\n\n\n"Ces images te parlent ?\nUn événement REVIVAL t'attend le 14 mai prochain dans un lieu mythique à Nantes !\nTu es de la promo Grande Ecole 1988 - 89 - 90 - 91 - 92 ?\n\nContacte-moi d'ici dimanche 8/05 : raphaellereisse@yahoo.fr"\n\nRaphaëlle Reisse (GE 90)\n\n 
BEGIN:VALARM
ACTION:DISPLAY
TRIGGER:-PT60M
DESCRIPTION:GE 1988 > 1992 : après-midi et soirée REVIVAL !
END:VALARM
END:VEVENT
END:VCALENDAR