BEGIN:VCALENDAR
VERSION:2.0
X-WR-TIMEZONE:Europe/Paris
PRODID:-//Audencia//NONSGML v1.0//EN
CALSCALE:GREGORIAN
BEGIN:VEVENT
SUMMARY:Company visit in Vannes, Brittany
DTSTART:20220513T150000
DTEND:20220513T163000
UID:1296
DTSTAMP:20260425T210122
LOCATION:Yec'Hed Malt Rue Léon Griffon - Park avenue 56890 SAINT-AVE
DESCRIPTION:Audencia's full-time MBA class of 2022 are celebrating their last day of classes with a company visit!\n\nMBA alum Florent Besnard is opening the doors of the Vannes-based malthouse Yec'Hed Malt from 15:00 on Friday 13 May. Cheers!\n
BEGIN:VALARM
ACTION:DISPLAY
TRIGGER:-PT60M
DESCRIPTION:Company visit in Vannes, Brittany
END:VALARM
END:VEVENT
END:VCALENDAR