BEGIN:VCALENDAR
VERSION:2.0
X-WR-TIMEZONE:Europe/Paris
PRODID:-//Audencia//NONSGML v1.0//EN
CALSCALE:GREGORIAN
BEGIN:VEVENT
SUMMARY:Afterwork in New York, USA
DTSTART:20220609T180000
DTEND:20220609T203000
UID:1295
DTSTAMP:20260425T210047
LOCATION:HOWM Cocina & Cocktails 518 W 27th St New York NY 10001
DESCRIPTION:Audencia's Executive MBA class are coming to the USA for their learning trip!\n\nCome and join them to mingle and network at an informal afterwork gathering.\n\nDate: Thursday 9 June\nTime: from 18:00\nVenue: HOWM Cocina & Cocktails, 518 West 27th Street, New York 10001\n \n
BEGIN:VALARM
ACTION:DISPLAY
TRIGGER:-PT60M
DESCRIPTION:Afterwork in New York, USA
END:VALARM
END:VEVENT
END:VCALENDAR