BEGIN:VCALENDAR
VERSION:2.0
X-WR-TIMEZONE:Europe/Paris
PRODID:-//Audencia//NONSGML v1.0//EN
CALSCALE:GREGORIAN
BEGIN:VEVENT
SUMMARY:Afterwork in Brussels, Belgium
DTSTART:20220512T190000
DTEND:20220512T203000
UID:1294
DTSTAMP:20260425T211115
LOCATION:GINETTE 5 Place du Luxembourg 1050 Bruxelles Belgium
DESCRIPTION:On the occasion of Audencia's Patricia Munoz-King's visit to Brussels, come and join her for an informal afterwork gathering.\n\nDate: Thursday 12 May\nTime: 19:00 to 20:30\nVenue: Ginette Bar, 5 Place du Luxembourg, 1050 Bruxelles
BEGIN:VALARM
ACTION:DISPLAY
TRIGGER:-PT60M
DESCRIPTION:Afterwork in Brussels, Belgium
END:VALARM
END:VEVENT
END:VCALENDAR