BEGIN:VCALENDAR
VERSION:2.0
X-WR-TIMEZONE:Europe/Paris
PRODID:-//Audencia//NONSGML v1.0//EN
CALSCALE:GREGORIAN
BEGIN:VEVENT
SUMMARY:Gala Audencia Bachelor 2022
DTSTART:20220611T193000
DTEND:20220612T010000
UID:1292
DTSTAMP:20260425T210141
LOCATION:21 quai des Antilles, 44200 Nantes
DESCRIPTION:Le Gala Audencia Bachelor est de retour !\n\nL'occasion pour les diplômés des programmes Bachelor in Management, Ecole Atlantique de Commerce, IPAC Nantes et EGC Saint-Nazaire, de retrouver vos amis de promotions, vos professeurs, les diplômés et l'administration.\n\n\nAu programme : Traiteur, DJ, Déco XXL, Awards, Danses, Jeux et bien d'autres...\n\n? Date de l'évènement : 11 Juin 2022\n⌚️ Horaires : 19h30 - 01h00\n? Lieu : Terrasses de l'Île\n? Adresse : 21 quai des Antilles, 44200 Nantes\n??Tenue de soirée exigée\n\nInscription pour les diplômés : https://www.helloasso.com/associations/bureau-des-clubs-abm/evenements/billetterie-alumni-gala-audencia-bachelor-2022
BEGIN:VALARM
ACTION:DISPLAY
TRIGGER:-PT60M
DESCRIPTION:Gala Audencia Bachelor 2022
END:VALARM
END:VEVENT
END:VCALENDAR