BEGIN:VCALENDAR
VERSION:2.0
X-WR-TIMEZONE:Europe/Paris
PRODID:-//Audencia//NONSGML v1.0//EN
CALSCALE:GREGORIAN
BEGIN:VEVENT
SUMMARY:Club Run Audencia - Run My City
DTSTART:20220515T090000
DTEND:20220515T130000
UID:1291
DTSTAMP:20260425T210029
LOCATION:Paris
DESCRIPTION: \nLe Club Run Audencia participe au Run My City le dimanche 15 mai.
BEGIN:VALARM
ACTION:DISPLAY
TRIGGER:-PT60M
DESCRIPTION:Club Run Audencia - Run My City
END:VALARM
END:VEVENT
END:VCALENDAR