BEGIN:VCALENDAR
VERSION:2.0
X-WR-TIMEZONE:Europe/Paris
PRODID:-//Audencia//NONSGML v1.0//EN
CALSCALE:GREGORIAN
BEGIN:VEVENT
SUMMARY:CCI France Chine Webinar: [Groupe de travail Agro-alimentaire] Transport et logistique des produits agro-alimentaires en Chine: situation et perspectives
DTSTART:20220607T100000
DTEND:20220607T113000
UID:1290
DTSTAMP:20260425T210449
LOCATION:
DESCRIPTION:Agenda:\n\n- Stuation du transport et de la logistique maritime\n\n- Etat du transport et logistique en Chine dans l'agroalimentaire\n\n- Partage d'expérience et témoignage\n\n- Point sur les relations bilatérales dans le secteur agroalimentaire\n\n \n\nCette conférence sera tenue en webinaire.\n\n \n\nLangue: Français\n\nDate: Mardi 7 Juin 2022\n\nHoraire: 16h00 - 17h30 (GMT+8, heure de Chine)\n\nFrais: Membres CCI FRANCE CHINE & Audencia Alumni: Gratuit\n\nLocation:  Webinar, les informations de connexion vous seront communiquées par email après inscription\n\n\nInscription: Scannez le code QR ou cliquer ici\n\n
BEGIN:VALARM
ACTION:DISPLAY
TRIGGER:-PT60M
DESCRIPTION:CCI France Chine Webinar: [Groupe de travail Agro-alimentaire] Transport et logistique des produits agro-alimentaires en Chine: situation et perspectives
END:VALARM
END:VEVENT
END:VCALENDAR