BEGIN:VCALENDAR
VERSION:2.0
X-WR-TIMEZONE:Europe/Paris
PRODID:-//Audencia//NONSGML v1.0//EN
CALSCALE:GREGORIAN
BEGIN:VEVENT
SUMMARY:SAI - Join the international recruitment panel for the Grande Ecole programme in Sao Paulo, Brazil
DTSTART:20171111T100000
DTEND:20171111T130000
UID:129
DTSTAMP:20260425T205721
LOCATION:Restaurant Rendez Vous 179 Rua Fradique Coutinho Pinheiros Sao Paulo
DESCRIPTION:\nDo you want to help find the next generation of successful students?\n\nIf you graduated from Audencia (all programmes) 3 or more years ago, join panel members on 11th November from 10.00 to 13.00 at \n \nRestaurant Rendez Vous\n179 Rua Fradique Coutinho\nPinheiros\n \n\n\n	Be a part of the selection process and participate in the international promotion of Audencia.\n	Meet for 30 minutes with candidates, talk about their project, your experiences with their future school, and fill in an evaluation grid.\n	Meet alumni from other Grandes Ecoles and grow your network.\n\n \n\nFor more information or to register\nSend an email to: sai@cci-paris-idf.fr
BEGIN:VALARM
ACTION:DISPLAY
TRIGGER:-PT60M
DESCRIPTION:SAI - Join the international recruitment panel for the Grande Ecole programme in Sao Paulo, Brazil
END:VALARM
END:VEVENT
END:VCALENDAR