BEGIN:VCALENDAR
VERSION:2.0
X-WR-TIMEZONE:Europe/Paris
PRODID:-//Audencia//NONSGML v1.0//EN
CALSCALE:GREGORIAN
BEGIN:VEVENT
SUMMARY:CCI France Chine Webinar: [Groupe de Travail Ressources Humaines] Trouver son équilibre entre confinement et télétravail
DTSTART:20220510T040000
DTEND:20220510T060000
UID:1289
DTSTAMP:20260425T210031
LOCATION:
DESCRIPTION:Comment mieux vivre votre confinement ? (seul, en couple, en famille) et comment mieux gérer le télétravail et le suivi de vos équipes" ?\n\nConseils et partage d’expériences. \n \n\nLangue: Français\n\nDate: Mardi 10 Mai\n\nHoraires: 10h00 - 12h00\n\nFrais: Audencia Alumni & Membres CCI FRANCE CHINE: Gratuit\n\nParticipation:  Webinar. Les informations de connexion seront communiquées par email, après inscription, quelques jours avant l'événement.\n\nInscription : Scannez le code QR ci-dessous ou cliquez ici\n\n\n 
BEGIN:VALARM
ACTION:DISPLAY
TRIGGER:-PT60M
DESCRIPTION:CCI France Chine Webinar: [Groupe de Travail Ressources Humaines] Trouver son équilibre entre confinement et télétravail
END:VALARM
END:VEVENT
END:VCALENDAR