BEGIN:VCALENDAR
VERSION:2.0
X-WR-TIMEZONE:Europe/Paris
PRODID:-//Audencia//NONSGML v1.0//EN
CALSCALE:GREGORIAN
BEGIN:VEVENT
SUMMARY:CCI France Chine Webinar: Point sur la situation économique - Présentation du chef du Service Economique et Régional de l’Ambassade de France
DTSTART:20220506T110000
DTEND:20220506T120000
UID:1288
DTSTAMP:20260425T210539
LOCATION:
DESCRIPTION:La CCI FRANCE CHINE et l'Ambassade de France en Chine, en partenariat avec Business France et les CCE, vous proposent un point spécial sur la situation économique des entreprises en Chine, le Vendredi 6 Mai à de 17h00 (Heure de Chine GMT+8).\n\n \n\nDate :  Vendredi 6 Mai 2022\n\nHoraire (Chine): \n\n\n	17h00 : Début du webinar\n	17h30 : Q&A\n\n\nLangue : Français\n\nPrix : Gratuit\n\nParticipation : Webinar ouvert à tous. Les informations de connexion seront communiquées par email, après inscription, quelques jours avant l'événement.\n\nIntervenants : \n\n\n	\n		\n			\n			M. Jean-Marc FENET\n			Ministre Conseiller pour les Affaires Economiques à l'Ambassade de France en Chine\n		\n		\n			 \n		\n		\n			\n			M. Christophe LAURAS\n			Président de la CCI FRANCE CHINE\n		\n		\n			 \n		\n		\n			\n			M. Thibaut FABRE\n			Directeur de Business France en Chine\n		\n		\n			 \n		\n		\n			\n			M. Guillaume BERNARD\n			Président du comité Chine des CCE\n		\n	\n\n\n\nInscription : Scannez le code QR ci-dessous ou cliquez ici\n\n
BEGIN:VALARM
ACTION:DISPLAY
TRIGGER:-PT60M
DESCRIPTION:CCI France Chine Webinar: Point sur la situation économique - Présentation du chef du Service Economique et Régional de l’Ambassade de France
END:VALARM
END:VEVENT
END:VCALENDAR