BEGIN:VCALENDAR
VERSION:2.0
X-WR-TIMEZONE:Europe/Paris
PRODID:-//Audencia//NONSGML v1.0//EN
CALSCALE:GREGORIAN
BEGIN:VEVENT
SUMMARY:CCI France Chine Webinar: [Industry of the Future Working Group] Achieving carbon neutrality at asset level through practical Energy Management
DTSTART:20220506T100000
DTEND:20220506T110000
UID:1287
DTSTAMP:20260425T210054
LOCATION:
DESCRIPTION:Introduction \n\nThe recent Boao Forum (April 20-22) emphasised “decarbonization as a game-changer”. China aims at carbon neutrality by 2060, and France by 2050. Global manufacturers are at the forefront of this transformation, implementing corporate programs and local regulations.\n\nProgram\n\nGaspard Lemoine-Scelles of TERAO Asia will share practical insights on how manufacturers can assess and mitigate the environmental impact of their industrial assets. He will explore the importance of site design, operations, and relevant monitoring with a focus on energy management.\n\nBruno Lhopiteau of Siveco China, coordinator of the Industry of the Future working group, will provide a recent illustration of environmental and asset monitoring, from multiple data sources, using a Digital Twin.\n\nInformation\n\nLanguage: English\nDate: Friday May 6th\nTime: 16:00-17:00 in China / 10:00-11:00 in France\nFees: Audencia Alumni & CCI FRANCE CHINE members: free\n          Non-members : 100RMB\nLocation: Webinar\n\nRegistration\n\nScan the following QR code or click here\n
BEGIN:VALARM
ACTION:DISPLAY
TRIGGER:-PT60M
DESCRIPTION:CCI France Chine Webinar: [Industry of the Future Working Group] Achieving carbon neutrality at asset level through practical Energy Management
END:VALARM
END:VEVENT
END:VCALENDAR