BEGIN:VCALENDAR
VERSION:2.0
X-WR-TIMEZONE:Europe/Paris
PRODID:-//Audencia//NONSGML v1.0//EN
CALSCALE:GREGORIAN
BEGIN:VEVENT
SUMMARY:Afterwork in Amsterdam
DTSTART:20220629T193000
DTEND:20220629T220000
UID:1286
DTSTAMP:20260425T210210
LOCATION:Brasserie Nel, Amstelveld 12, 1017 JD Amsterdam, Pays-Bas
DESCRIPTION:Dear Audencia Alumni in Amsterdam, \n\nWe would like to invite you to a gathering during the visit of Cici LIU, one of the Alumni Relations Managers at Audencia. \n \n\n	Date: Wednesday 29 June\n	Time: 19:30\n	Location: Brasserie Nel, Amstelveld 12, 1017 JD Amsterdam\n\n\nHoping to see you there and hear about your stories in your home city! \n\nAny questions, feel free to contact tcliu@audencia.com 
BEGIN:VALARM
ACTION:DISPLAY
TRIGGER:-PT60M
DESCRIPTION:Afterwork in Amsterdam
END:VALARM
END:VEVENT
END:VCALENDAR