BEGIN:VCALENDAR
VERSION:2.0
X-WR-TIMEZONE:Europe/Paris
PRODID:-//Audencia//NONSGML v1.0//EN
CALSCALE:GREGORIAN
BEGIN:VEVENT
SUMMARY:Conférence-débat Isegoria - Frédéric Encel
DTSTART:20220504T183000
DTEND:20220504T203000
UID:1285
DTSTAMP:20260425T210024
LOCATION:Audencia 8 Route de la Jonelière 44312 Nantes
DESCRIPTION:\nLe mandat 2022 de l'association Isegoria vous convie à la première conférence du cycle dédié au thème de géopolitique.\n\nÀ propos de cet évènement\n\nConférence animée par : Frédéric Encel sur le thème "Israël et Monde arabe : histoire d'un sempiternel conflit transfrontalier"\nFrédéric Encel, essayiste, géopolitologue, maître de conférences à Sciences Po Paris et directeur de séminaire à l'Institut français de géopolitique, est spécialisé dans l'étude du conflit israélo-palestinien et du monde arabe. Diplômé de Sciences Po Grenoble, il entre à l'Institut français de géopolitique où il obtient un doctorat sur la thèse "Géopolitique de Jérusalem : représentations, stratégies et perspectives autour d'une cité sanctifiée" en 1997.\nPar la suite, Frédéric Encel multiplie les ouvrages sur la géopolitique d’Israël et du Moyen-Orient, sujet souvent erroné et polémique. Il rédige notamment en 2004, Géopolitique d’Israël : dictionnaire pour sortir des fantasmes, Comprendre le Proche-Orient en 2005 et Les voies de la puissance paru en mars 2022.\nFrédéric Encel nous fera l'honneur de partager son analyse sur le développement et les reconfigurations des relations entre Israël et les pays arabes depuis 1948. Entre conflits, crises et coopérations, qu'en est-il aujourd'hui ?\n \n\nInscrivez-vous\n\n 
BEGIN:VALARM
ACTION:DISPLAY
TRIGGER:-PT60M
DESCRIPTION:Conférence-débat Isegoria - Frédéric Encel
END:VALARM
END:VEVENT
END:VCALENDAR