BEGIN:VCALENDAR
VERSION:2.0
X-WR-TIMEZONE:Europe/Paris
PRODID:-//Audencia//NONSGML v1.0//EN
CALSCALE:GREGORIAN
BEGIN:VEVENT
SUMMARY:Soirée Ingénieurs-Managers
DTSTART:20220609T193000
DTEND:20220609T223000
UID:1284
DTSTAMP:20260425T210148
LOCATION:Hôtel Kergorlay Langsdorff 9, rue de l'Amiral d'Estaing 75016 Paris
DESCRIPTION:\n\n\n- Soirée réservée aux Ingénieurs-Managers -\n\nVisite culturelle & dégustation vins\n \nProfitez d’une soirée pré-estivale pour vous retrouver entre Ingénieurs-Managers, à Paris\n \nJeudi 9 juin à 19h30\n- limité à 70 personnes -\nGratuit sur inscription\n\n \n\n\nAu programme :\n• 19h30 : visite de l’hôtel Kergorlay Langsdorff\nDans les années 1890, l'architecte Paul-Ernest Sanson construit sur la colline de Chaillot à Paris l'hôtel Kergorlay Langsdorff pour le Comte Pierre de Kergorlay, alors député de la Haute-Loire. Ce lieu est l'unique hôtel particulier à Paris encore habité par la famille ayant commandé le site. Joyau de la Belle Epoque, cette demeure historique recèle de merveilleux trésors que nous vous invitons à découvrir.\n\n\n• 20h15 : dégustation vins par Sophie Roulé (GE 01), Fondatrice de Involuté.\nSophie vous partagera sa passion et vous contera notamment l’hybridation des vins. Elle a affiné son palais au fil des années et des dégustations en France et à l'étranger. Elle s'est aussi forgée des convictions, au gré de ses rencontres avec des vignerons engagés : Nicolas Joly et son respect de la Terre, Domaine Marcel Deiss, leurs vins vibrants et leur approche geo sensorielle de la dégustation, ou encore le visionnaire Jo Pithon...\n\nContact :\nLaetitia Caliez, lcaliez@audencia.com\n\n \n\n\n\n 
BEGIN:VALARM
ACTION:DISPLAY
TRIGGER:-PT60M
DESCRIPTION:Soirée Ingénieurs-Managers
END:VALARM
END:VEVENT
END:VCALENDAR