BEGIN:VCALENDAR
VERSION:2.0
X-WR-TIMEZONE:Europe/Paris
PRODID:-//Audencia//NONSGML v1.0//EN
CALSCALE:GREGORIAN
BEGIN:VEVENT
SUMMARY:Golf Trophy Audencia - 8th July - Singapore
DTSTART:20220708T080000
DTEND:20260425T210024
UID:1283
DTSTAMP:20260425T210024
LOCATION:Orchid Country Club 1 Orchid Club Rd, Singapour 769162
DESCRIPTION:Discover the new website\nwww.golftrophy.audencia.com\n\n \n\nLet's play golf, network\nand complete the challenge of Audencia Foundation\n\nat Orchid Country Club\n\n\n\n \n\nTee off on a gentle rolling hill, conquer the strategically placed bunkers and drive a shot along the glassy waterways. Occasionally, be greeted by brilliantly-coloured flowers.\n\nEstablished in 1993 and located along the truly picturesque waterways of the Sungei Seletar Reservoir, Orchid Country Club (OCC) is Singapore’s largest golf course. The course has been designed by Mr. Ong Teng Cheong - former President of Singapore, who wanted to provide a golf course and country club for the working people of Singapore.  Now, the world’s top players flock here on a regular basis.\n\nThe Club has three 9-hole courses. Named after orchids, the Aranda, Vanda and Dendro courses feature acres of immaculately manicured fairways and greens.\n \n18-hole courses:\nWe will play two 9-hole courses.\n\n\n	The Vanda Course is a Par 36. Despite being the shortest of the three courses, it offers challenging course management with abundant water hazards. Accuracy is a premium here. The fairways are wide making golf an enjoyable game for many new enthusiasts. Some of the greens are undulating and huge, measuring an average of 700 to 900 square meters.\n	The Dendro Course is a Par 37. It was the first 9-hole to be completed in September 1993. The fairways are also wide making golf an enjoyable game for many new enthusiasts. Some of the greens are undulating and huge, measuring an average of 700 to 900 square meters.\n\n\n \n\nwith the support of :\n\n        \n\n\n\n 1 trophy, several golf clubs!\n\nFor the first time, Golf Trophy Audencia will take place in several golfs clubs in France (Nantes and Paris) and abroad. Check the participating golf courses here.\n\n\n​ Solidarity game formula\n\nOn an 18-hole course, teams of 3 play in a scramble.\nAt each shot, the best ball of the 3 players is chosen. A formula that allows everyone to play according to their level.\nThis competition will be held in aid of the Audencia Foundation.\n\n>> Form your teams of 3 with Audencia Alumni or non-Alumni golfers. The Trophy is open to all!\n\n \n\n Program\n\n\n	8:00 (local time) - Welcome and swing test for golfers without handicap.\n	8:40 - group photo\n	8:50 - Let's golf!\n	12:45 - a free drink\n\n \n\nTUESDAY 12 JULY - 1:00 pm (local time)\nAn awarding ceremony will be held by videoconference with all the participants from all the golf courses. [program soon]\n\n\n \n\n Registrations!\n\n\n\nYour registration includes greenfee, booking and drink.\n>> Payment on-site\n      Green fee : $100 (SGD)  /  Swing test : $10 (SGD)\n>> In order to validate your registration, it is necessary to fill in a form by clicking here.\n      Only one form per player.\n \n\n Questions?\n\nContacts: \n\n\n	Victor Tesnières, victor.tesniere@gmail.com\n	Josselin Pitard, jpitard@gmail.com\n\n\n \n\n\nTake part in a unique golf trophy \nin an exceptional setting!\n\n\n\n 
BEGIN:VALARM
ACTION:DISPLAY
TRIGGER:-PT60M
DESCRIPTION:Golf Trophy Audencia - 8th July - Singapore
END:VALARM
END:VEVENT
END:VCALENDAR