BEGIN:VCALENDAR
VERSION:2.0
X-WR-TIMEZONE:Europe/Paris
PRODID:-//Audencia//NONSGML v1.0//EN
CALSCALE:GREGORIAN
BEGIN:VEVENT
SUMMARY:Golf Trophy Audencia - 10th July - Geneva
DTSTART:20220710T090000
DTEND:20220710T163000
UID:1282
DTSTAMP:20260425T210142
LOCATION:Golf de Divonne 604, rue des Bains 01220 Divonne-les-Bains
DESCRIPTION:Discover the new website\nwww.golftrophy.audencia.com\n\n \n\nLet's play golf, network\nand complete the challenge of Audencia Foundation\n\nat 'Golf de Divonne'\n\n\n \nLet's play golf facing the mythical Mont Blanc, near the Jura mountains! Only 15 minutes from Geneva, the Divonne-les-Bains golf course, built in 1931, offers a green setting with majestic trees in the middle of which flows a stream, the Divonne. A real natural park with many species of trees almost a hundred years old!\n \nwith the support of :\n\n        \n\n\n\n 1 trophy, several golf clubs!\n\nFor the first time, Golf Trophy Audencia will take place in several golfs clubs in France (Nantes and Paris) and abroad. Check the participating golf courses here.\n\n\n​ Solidarity game formula\n\nOn an 18-hole course, teams of 3 play in a scramble.\nAt each shot, the best ball of the 3 players is chosen. A formula that allows everyone to play and contribute to the team regardless of their level.\nThis competition will be held in aid of the Audencia Foundation.\n\n>> Form your teams of 3 with Audencia Alumni or non-Alumni golfers. The Trophy is open to all players with a valid French or Swiss licence and a handicap of 36 or less!\n \n\n Program\n\n\n	9:00-9:30 (local time) - Welcome and check-in\n	9:45 - group photo\n	10:00-15:00 - Let's golf!\n	15:30 - cocktail\n\n\nTUESDAY 12 JULY - 1:00 pm (local time)\nAn awarding ceremony will be held by videoconference with all the participants from all the golf courses. [program soon]\n\n\n \n\n Registrations!\n\n\n\nYour registration includes coffee, practice, greenfee, lunch break and cocktail.\nIn order to validate your registration, it is necessary to:\n1) register on this site (top right) by paying your contribution (55€ if you're graduate of Audencia and 75€ if not);\n2) fill in a form by clicking here. Only one form per player.\n \n\n Questions?\n\nContact: Martin Perrier, martin@martinperriercoaching.com\n\n \n\n\nTake part in a unique golf trophy \nin an exceptional setting!\n\n\n\n 
BEGIN:VALARM
ACTION:DISPLAY
TRIGGER:-PT60M
DESCRIPTION:Golf Trophy Audencia - 10th July - Geneva
END:VALARM
END:VEVENT
END:VCALENDAR