BEGIN:VCALENDAR
VERSION:2.0
X-WR-TIMEZONE:Europe/Paris
PRODID:-//Audencia//NONSGML v1.0//EN
CALSCALE:GREGORIAN
BEGIN:VEVENT
SUMMARY:Chapter Zurich : Afterwork with Audencia's Uwe Supper
DTSTART:20220531T190000
DTEND:20220531T210000
UID:1281
DTSTAMP:20260425T210603
LOCATION:en fonction du temps la décision définitive sera prise le samedi avant l'évènement:  Au  Gainsbourg Bar (https://gainsbourg.ch/)
DESCRIPTION: \nAfterwork with Audencia's Uwe Supper\n\nOn the occasion of Uwe Supper's visit to Zurich, alumni are invited to join him for an informal afterwork on:\n \n\n	Date: Tuesday 31 May\n	Time: 7pm-9pm\n	At: TBC\n\n\nThis will be a great opportunity to catch up with all the latest news of Audencia and share stories with Uwe about your home city of Zurich!\n\n
BEGIN:VALARM
ACTION:DISPLAY
TRIGGER:-PT60M
DESCRIPTION:Chapter Zurich : Afterwork with Audencia's Uwe Supper
END:VALARM
END:VEVENT
END:VCALENDAR