BEGIN:VCALENDAR
VERSION:2.0
X-WR-TIMEZONE:Europe/Paris
PRODID:-//Audencia//NONSGML v1.0//EN
CALSCALE:GREGORIAN
BEGIN:VEVENT
SUMMARY:Lunch in Madrid, Spain
DTSTART:20171124T140000
DTEND:20171124T160000
UID:128
DTSTAMP:20260425T205859
LOCATION:Restaurant Le Petit Comité  C/Reina, 15 28004 MADRID Métro Sevilla/Gran Vía/Chueca
DESCRIPTION:Bonjour,\n \nNotre prochaine rencontre ALUMNI aura lieu:\n \nle 24 novembre 2017\nà 14h00 \n\npour un déjeuner au restaurant\nLe Petit Comité \nC/Reina, 15 28004 MADRID\nMétro Sevilla/Gran Vía/Chueca\n\nLe prix sera de 16 € TTC: Entrée/Plat/Dessert ou Café avec eau et 1 verre de vin ou bière compris (à régler sur place)\n\nVoici le lien au formulaire Google que vous devez utiliser pour vous inscrire (https://goo.gl/forms/PtPsI6SI19AgEWWF2) avant le mercredi 22 novembre.\n\nN’oubliez pas de m’envoyer un mail pour me confirmer votre participation ou votre impossibilité de participer.\n \nJ’espère vous voir nombreux vendredi 24 Novembre!\n \nA bientôt,\nFrançois \n 
BEGIN:VALARM
ACTION:DISPLAY
TRIGGER:-PT60M
DESCRIPTION:Lunch in Madrid, Spain
END:VALARM
END:VEVENT
END:VCALENDAR