BEGIN:VCALENDAR
VERSION:2.0
X-WR-TIMEZONE:Europe/Paris
PRODID:-//Audencia//NONSGML v1.0//EN
CALSCALE:GREGORIAN
BEGIN:VEVENT
SUMMARY:[CANCELLED!] CAREER CENTER WEBINAR: Careers in Malta
DTSTART:20220511T183000
DTEND:20220511T200000
UID:1279
DTSTAMP:20260425T210043
LOCATION:
DESCRIPTION:\n \nCareers in Malta \n\nCANCELLED\n\nAs part of our International Career Webinars, join us on May 11th at 18h30, to meet Hirmine JEGU, Operation Manager for OhMyUp Malta.\n\nHirmine is in charge of the general operations at Oh My UP, a leading service agency for French-speaking people in Malta. She supervises the agency's communication actions, partnerships, commercial and marketing operations, the strategic and operational aspect (organisational details and management within the poles), in French and English.\n\nOh My UP is an agency based in Malta, which helps French-speaking people settle in the country by helping them on finding an internship/job/accommodation ... It is free of charge. \n\nThey are the expert on the Job market in MALTA.\n\nAgenda\n\n- Why choose Malta? Hirmine will tell us about the 4 reasons to choose Malta\n- Overview of the job market (sectors, companies recruiting, recruitment periods, languages needed)\n- Skills and qualities expected by companies in Malta\n- Q&A\n\nClick here to join the meeting\n
BEGIN:VALARM
ACTION:DISPLAY
TRIGGER:-PT60M
DESCRIPTION:[CANCELLED!] CAREER CENTER WEBINAR: Careers in Malta
END:VALARM
END:VEVENT
END:VCALENDAR