BEGIN:VCALENDAR
VERSION:2.0
X-WR-TIMEZONE:Europe/Paris
PRODID:-//Audencia//NONSGML v1.0//EN
CALSCALE:GREGORIAN
BEGIN:VEVENT
SUMMARY:Venez assister à la finale de l'Éloquence du Bégaiement Nantes le samedi 6 Mai à Audencia de 19h à 22h !
DTSTART:20220506T190000
DTEND:20220506T220000
UID:1276
DTSTAMP:20260425T210001
LOCATION:Amphithéâtre Edit de Nantes 8 route de la Jonelière, 44 000 Nantes
DESCRIPTION:L'Éloquence du Bégaiement Nantes est le premier concours d’éloquence réservé à des personnes bègues de la région nantaise. C’est un programme d’accompagnement sur 4 semaines pendant lesquelles des personnes qui bégaient ont été formées à l’art oratoire par les meilleurs spécialistes et dont l’aboutissement est un concours d'éloquence. \n \n\nLes candidats,  ont osé l’aventure de leur vie en participant à ce concours ! Ils ont fait le pari audacieux de prendre à contre-pied leur bégaiement et de s’exprimer en public sans aucune frontière et sans aucun artifice.\n\nIls ont été sélectionnés sur un seul critère: être une personne qui bégaie. \n \n\nLeur âge (entre 18 et + de 60 ans) et leur niveau d’éducation n’entrent pas dans la sélection, pour que ce projet puisse montrer que l’éloquence est accessible à tous\n \n\nIls seront 6 à vous montrer que le bégaiement embellit l’éloquence…\n \n\nAprès 2 tours de concours, où les candidats ont tout donné, dans un esprit de bienveillance et de compétition positive, les 6 finalistes sont prêts à vous livrer une finale d’anthologie. \n \n\nRdv le vendredi 6 mai à Audencia, 8 route de la Jonelière, 44 000 Nantes, de 19h (début 19h30) à 22h en amphithéâtre Edit de Nantes !\n \n\nVous voulez rire ? Pleurer ? Ou les deux à la fois ? Inscription gratuite dans la limite des places disponibles ⬇\n\nhttps://www.eventbrite.fr/e/billets-finale-concours-eloquence-du-begaiement-312846340827\n \n\nLe bégaiement apporte à l’éloquence cette touche d’imprévu, de défi, et d’émotion qui lui donne ses lettres de noblesse.\n\n
BEGIN:VALARM
ACTION:DISPLAY
TRIGGER:-PT60M
DESCRIPTION:Venez assister à la finale de l'Éloquence du Bégaiement Nantes le samedi 6 Mai à Audencia de 19h à 22h !
END:VALARM
END:VEVENT
END:VCALENDAR