BEGIN:VCALENDAR
VERSION:2.0
X-WR-TIMEZONE:Europe/Paris
PRODID:-//Audencia//NONSGML v1.0//EN
CALSCALE:GREGORIAN
BEGIN:VEVENT
SUMMARY:CAREER CENTER WEBINAR: Careers in Germany
DTSTART:20220504T183000
DTEND:20220504T200000
UID:1275
DTSTAMP:20260425T210207
LOCATION:
DESCRIPTION:\n\n\n \n\nCareers in Germany\n\nAs part of our International Career Webinars, join us on May 4th at 18h30, to meet Anaëlle Diochon (GE 2017), International Senior Brand Manager at Henkel Beauty Care Schwarzkopf Professional.\n\nAnaëlle will tell us about her intercultural experience, the working culture in Germany and her role in a multinational of German origin.\n\nAnaëlle’s team recruits interns every year for Global Marketing roles. Don´t miss this opportunity to get to know more about this and other offers at Henkel.\n\n\nModerated by Uwe Supper, Career Advisor Germany, Audencia\n\n\nAgenda:\n\n10 min - intro + job market in Germany overview\n\n15-20 min – Alumni experience in Germany\n\n15-20 min - Henkel company culture, structure, careers and internships\n\nQ&A\n\nCliquez ici pour participer à la réunion
BEGIN:VALARM
ACTION:DISPLAY
TRIGGER:-PT60M
DESCRIPTION:CAREER CENTER WEBINAR: Careers in Germany
END:VALARM
END:VEVENT
END:VCALENDAR