BEGIN:VCALENDAR
VERSION:2.0
X-WR-TIMEZONE:Europe/Paris
PRODID:-//Audencia//NONSGML v1.0//EN
CALSCALE:GREGORIAN
BEGIN:VEVENT
SUMMARY:Webinar: Organisational strategies for wellbeing with Dr Thomas Roulet (GE 09)
DTSTART:20220420T133000
DTEND:20220420T143000
UID:1273
DTSTAMP:20260425T210029
LOCATION:
DESCRIPTION:This webinar is part of a guest lecture series organised by Cambridge Judge Business School Executive Education.\n\nAre your existing training methods capable of tackling the challenges of the modern workplace?\n\nWellbeing at work has become a central question for organisations. It is not just a question of performance but also of organisational culture. Our approach to work has been transformed by the COVID-19 pandemic and the shift to hybrid working. Now we need to consider the challenges ahead and approaching wellbeing at an organisational level, with new strategies that will affect us all.\n\nA robust wellbeing strategy is a core aspect of creating a healthy workplace and it can also offers personal growth for your employees. Drawing on his latest research featured in MITSloan Management Review, Dr Thomas Roulet (GE 09), Associate Professor in Organisation Theory, will cover the main wellbeing issues faced by organisations, and how we can approach them holistically. He will explore how hyper flexibility can benefit – but also burn out – your team. He will also discuss the practical ways organisations can promote employee wellness.\n\nDate: Wednesday 20 April\nTime: 13:30-14:30 (Paris time)\n \n\nTo access the webinar\nREGISTER HERE
BEGIN:VALARM
ACTION:DISPLAY
TRIGGER:-PT60M
DESCRIPTION:Webinar: Organisational strategies for wellbeing with Dr Thomas Roulet (GE 09)
END:VALARM
END:VEVENT
END:VCALENDAR