BEGIN:VCALENDAR
VERSION:2.0
X-WR-TIMEZONE:Europe/Paris
PRODID:-//Audencia//NONSGML v1.0//EN
CALSCALE:GREGORIAN
BEGIN:VEVENT
SUMMARY:CCI France Chine Webinar: Ralentir le vieillissement et améliorer votre énergie en optimisant vos horloges biologiques
DTSTART:20220425T120000
DTEND:20220425T133000
UID:1272
DTSTAMP:20260425T210025
LOCATION:
DESCRIPTION:Le vieillissement n'est pas une conséquence normale et naturelle mais plutôt un processus qui peut être ralenti, arrêté ou même inversé.\n\nDans cette conférence interactive, nous vous donnerons des outils pour la prévention de la fatigue, la réinitialisation des horloges biologiques, la maximisation de votre énergie, et des conseils judicieux contre le vieillissement.\n\nNotre approche est pratique, développant des comportements facilement réalisables issus de la recherche en neurosciences et en psychologie.\n\nEn prenant le contrôle de votre comportement psychobiologique, vous activez les processus de récupération de votre santé physique et mentale.\n\n \n\nIntervenant\n\nDr. Paul Rochon\n\n \n\nAgenda \n\nDate : 25 avril 2022\nHoraires (Heure Chine) :\n\n\n	18h00 : Accueil\n	18h30 - 19h30 : Conférence et Q&A\n	19h30 : Cocktail\n\n\nLangue : Français\nTarifs : \n\n\n	Membres CCI FRANCE CHINE & Audencia Alumni : Gratuit\n	Membres Pékin Accueil : 70 RMB\n	Non-Membres : 100 RMB\n	Webinar : Gratuit\n\n\nLieu : CCI FRANCE CHINE Beijing Office + Webinar\n\nSuites 201-222, 2F, Building 81, No. 4 Gongti North Road, Beijing \n工体北路4号院81号楼二层201-222室\n\nInscription : Scannez le code QR ou cliquez ici\n\n报名成功后将会发送参会信息到邮箱\n\nLes informations de connexion seront communiquées par email, après inscription, quelques jours avant l'événement.\n\n\n\n\n 
BEGIN:VALARM
ACTION:DISPLAY
TRIGGER:-PT60M
DESCRIPTION:CCI France Chine Webinar: Ralentir le vieillissement et améliorer votre énergie en optimisant vos horloges biologiques
END:VALARM
END:VEVENT
END:VCALENDAR