BEGIN:VCALENDAR
VERSION:2.0
X-WR-TIMEZONE:Europe/Paris
PRODID:-//Audencia//NONSGML v1.0//EN
CALSCALE:GREGORIAN
BEGIN:VEVENT
SUMMARY:Anniversaire de promotion Audencia SciencesCom 1997
DTSTART:20171124T190000
DTEND:20171124T230000
UID:127
DTSTAMP:20260425T210004
LOCATION:MEDIACAMPUS
DESCRIPTION:Cher(e)s diplômé(e)s, \n\nNous sommes heureux de vous convier le vendredi 24 novembre 2017 aux 20 ans de votre promotion.\n\nNous vous attendons à 19 h au Mediacampus pour une séquence souvenirs souvenirs et visite des nouveaux locaux..  puis à 20 h 30 nous nous retrouverons au Point Bar (38 Rue La Noue Bras de Fer) pour un cocktail dînatoire dans une ambiance festive et décontractée. Le prix comprend différentes tapas et grignottes salées et sucrées accompagnées des boissons (soupe angevine ou planteur, bières, vins et soft).\n\nPour participer à la soirée, cliquer sur s'inscrire en haut à droite de l'écran.\n\nAu plaisir de vous retrouver nombreux le 24/11/2017\n 
BEGIN:VALARM
ACTION:DISPLAY
TRIGGER:-PT60M
DESCRIPTION:Anniversaire de promotion Audencia SciencesCom 1997
END:VALARM
END:VEVENT
END:VCALENDAR