BEGIN:VCALENDAR
VERSION:2.0
X-WR-TIMEZONE:Europe/Paris
PRODID:-//Audencia//NONSGML v1.0//EN
CALSCALE:GREGORIAN
BEGIN:VEVENT
SUMMARY:Webinar : Finance de marché
DTSTART:20220427T193000
DTEND:20220427T203000
UID:1269
DTSTAMP:20260425T210051
LOCATION:
DESCRIPTION: \nDans le cadre du partenariat entre le Career Center et London Fox, nous continuons notre série de webinars sur les questions techniques posées en entretien. Au programme de ce webinar du 27 avril. Cette session portera sur :\n\n- Arbitrage FX\n\n- Grecques et Trading\n\n- Binaire et Hedging\n\n- Black-Scholes\n\n- Produits structurés\n\n \n\nLe webinar se tiendra sur Teams. Venez nombreux !\n\n\n\n\n 
BEGIN:VALARM
ACTION:DISPLAY
TRIGGER:-PT60M
DESCRIPTION:Webinar : Finance de marché
END:VALARM
END:VEVENT
END:VCALENDAR