BEGIN:VCALENDAR
VERSION:2.0
X-WR-TIMEZONE:Europe/Paris
PRODID:-//Audencia//NONSGML v1.0//EN
CALSCALE:GREGORIAN
BEGIN:VEVENT
SUMMARY:Webinar : Finance d'entreprise
DTSTART:20220420T193000
DTEND:20220420T203000
UID:1268
DTSTAMP:20260425T210120
LOCATION:
DESCRIPTION:Dans le cadre du partenariat entre le Career Center et London Fox, nous continuons notre série de webinars sur les questions techniques posées en entretien.\n\nAu programme de ce webinar du 20 avril, la modélisation financière : création d'un modèle financier sur Excel à partir des 3 états financiers, calcul des métriques et valorisation des entreprises.\n\nLe webinar se tiendra sur Teams.\n\nVenez nombreux !\n\n\n\n 
BEGIN:VALARM
ACTION:DISPLAY
TRIGGER:-PT60M
DESCRIPTION:Webinar : Finance d'entreprise
END:VALARM
END:VEVENT
END:VCALENDAR