BEGIN:VCALENDAR
VERSION:2.0
X-WR-TIMEZONE:Europe/Paris
PRODID:-//Audencia//NONSGML v1.0//EN
CALSCALE:GREGORIAN
BEGIN:VEVENT
SUMMARY:CCI France Chine Webinar avec M. l'Ambassadeur: Point sur la situation sanitaire, la préparation des échéances électorales et les relations bilatérales
DTSTART:20220421T113000
DTEND:20220421T123000
UID:1267
DTSTAMP:20260425T210145
LOCATION:
DESCRIPTION:           \n\n\n\n	\n		\n			La CCI FRANCE CHINE et l'Ambassade de France en Chine vous proposent un nouveau point sur l'actualité politique et économique, le Jeudi 21 Avril.\n			Le webinar débutera à 17h30 (Heure de Chine GMT+8).\n		\n		\n			 \n		\n		\n			M. Laurent BILI, Ambassadeur de France en Chine, M. Jean-Marc FENET, Ministre Conseiller pour les Affaires Economiques à l'Ambassade de France en Chine et M. Benoît GUIDEE, Consul Général de France à Shanghai, reviendront sur la situation sanitaire à Shanghai ainsi que sur les actions mises en place pour accompagner la communauté dans son ensemble et répondront à vos questions.\n		\n		\n			 \n		\n		\n			Pour participer et poser vos questions, merci de remplir le formulaire d'inscription.\n		\n		\n			 \n		\n		\n			Cette conférence vous est proposée exclusivement en webinar.\n			Les informations de connexion seront communiquées par email, après inscription, quelques jours avant l'événement.\n		\n	\n\n
BEGIN:VALARM
ACTION:DISPLAY
TRIGGER:-PT60M
DESCRIPTION:CCI France Chine Webinar avec M. l'Ambassadeur: Point sur la situation sanitaire, la préparation des échéances électorales et les relations bilatérales
END:VALARM
END:VEVENT
END:VCALENDAR