BEGIN:VCALENDAR
VERSION:2.0
X-WR-TIMEZONE:Europe/Paris
PRODID:-//Audencia//NONSGML v1.0//EN
CALSCALE:GREGORIAN
BEGIN:VEVENT
SUMMARY:? Réseaux sociaux : le meilleur booster de la relation client de demain !
DTSTART:20220503T110000
DTEND:20220503T120000
UID:1266
DTSTAMP:20260425T210406
LOCATION:
DESCRIPTION:\n? Rendez-vous le mardi 3 mai de 11h à 12h :\nLe Café de Monsieur Lucien aura le plaisir de recevoir Florian Vannier, fondateur de SEIF, experts relations clients, formateurs & intégrateurs Zendesk. \nDans ce webinar co-construit avec Julien Tourme, fondateur de Monsieur Lucien, venez découvrir : \n \nLes réseaux sociaux : le meilleur booster de la relation client de demain\n\n? Au programme :\n- Pourquoi & comment miser sur les réseaux sociaux pour améliorer sa relation client ?\n- Quelles sont les principales étapes pour démarrer ?\n- Quelles informations des réseaux sociaux remontées pour optimiser sa relation client ?\n- Présentation des outils + cas concrets\n- Quelles sont les pièges à éviter ?\n- Comment gérer la e-réputation de votre activité ?\n- Identifier & mesurer les KPI's\n \nJe m'inscris\n \n Au plaisir de vous retrouver le mardi 3 mai en Live, sur Linkedin !\n\n
BEGIN:VALARM
ACTION:DISPLAY
TRIGGER:-PT60M
DESCRIPTION:? Réseaux sociaux : le meilleur booster de la relation client de demain !
END:VALARM
END:VEVENT
END:VCALENDAR