BEGIN:VCALENDAR
VERSION:2.0
X-WR-TIMEZONE:Europe/Paris
PRODID:-//Audencia//NONSGML v1.0//EN
CALSCALE:GREGORIAN
BEGIN:VEVENT
SUMMARY:CONFERENCE - Isegoria by Mediacampus - Gaspard Gantzer
DTSTART:20220425T183000
DTEND:20220425T193000
UID:1265
DTSTAMP:20260425T210050
LOCATION:
DESCRIPTION:Nous avons le plaisir de vous inviter à la prochaine conférence d'Isegoria by #Mediacampus. Pour l'occasion, nous recevons Gaspard Gantzer, ex-chef du pôle communication à la présidence de la République française auprès de François Hollande, sur le thème : \n \nCrise après crise : quelle place pour la parole politique ? \n\nLa conférence sera diffusée sur Twitch Audencia TV.\n\nGaspard GANTZER\nDiplômé de l’ENA et de Sciences Po, Gaspard Gantzer est un homme politique français engagé au Parti Socialiste (PS) puis à La République en marche (LREM). Il a notamment géré l'ensemble du pôle communication de l'Elysée lors du quinquennat de François Hollande. Depuis, Gaspard Gantzer occupe diverses fonctions : il est le président et fondateur de Gantzer Agency , spécialisée en stratégie et communication de crise. Il est également chroniqueur pour Radio France et enseignant dans diverses institutions d’enseignement supérieur.\n\nComme l'explique très bien Gantzer Agency, "à l’ère des crises permanentes (climatique, sanitaire, économique, sécuritaire, etc.), il est de plus en plus difficile pour les dirigeants et les personnalités publiques de voir clair et loin, de se faire entendre et comprendre". Personne n'est épargné. N'importe quelle entreprise peut faire face à une situation de crise durant son existence, d'où l'importance de construire des stratégies durables.\n\nLors de cette conférence Isegoria by Mediacampus, nous échangerons plus particulièrement avec Gaspard Gantzer sur le rôle de la communication politique dans la gestion des situations de crises.\n\nNous vous invitons à partager ce temps d'échanges avec Gaspard Gantzer,\nn'hésitez pas à en faire profiter votre entourage !\n \nAccédez au Live Twitch\n\n \n\n
BEGIN:VALARM
ACTION:DISPLAY
TRIGGER:-PT60M
DESCRIPTION:CONFERENCE - Isegoria by Mediacampus - Gaspard Gantzer
END:VALARM
END:VEVENT
END:VCALENDAR