BEGIN:VCALENDAR
VERSION:2.0
X-WR-TIMEZONE:Europe/Paris
PRODID:-//Audencia//NONSGML v1.0//EN
CALSCALE:GREGORIAN
BEGIN:VEVENT
SUMMARY:Afterwork in Lisbon
DTSTART:20220518T190000
DTEND:20220518T213000
UID:1264
DTSTAMP:20260425T210045
LOCATION:Cais da Pedra, Armazem B, loja 9, Av. Infante Dom Henrique
DESCRIPTION:Dear Audencia Alumni in Lisbon, \n\nWe would like to invite you to an afterwork during the visit of Cici LIU, one of the Alumni Relations Managers at Audencia. \n \n\n	Date: Wednesday 18 May\n	Time: 19:00 - 21:30\n	Location: Cais da Pedra, Armazem B, loja 9, Av. Infante Dom Henrique\n\n\nHoping to see you there and hear about your stories in your home city Lisbon! \n\nAny questions, feel free to contact tcliu@audencia.com 
BEGIN:VALARM
ACTION:DISPLAY
TRIGGER:-PT60M
DESCRIPTION:Afterwork in Lisbon
END:VALARM
END:VEVENT
END:VCALENDAR