BEGIN:VCALENDAR
VERSION:2.0
X-WR-TIMEZONE:Europe/Paris
PRODID:-//Audencia//NONSGML v1.0//EN
CALSCALE:GREGORIAN
BEGIN:VEVENT
SUMMARY:Volunteers Academy : Séminaire des ambassadeurs diplômés
DTSTART:20220521T090000
DTEND:20220521T170000
UID:1263
DTSTAMP:20260425T210024
LOCATION:Audencia Paris 95 rue Falguière 75015 Paris
DESCRIPTION:\n\nLe samedi 21 mai les ambassadeurs diplômés sont invités au Volunteers Academy de 10h à 17h sur le campus parisien.
BEGIN:VALARM
ACTION:DISPLAY
TRIGGER:-PT60M
DESCRIPTION:Volunteers Academy : Séminaire des ambassadeurs diplômés
END:VALARM
END:VEVENT
END:VCALENDAR