BEGIN:VCALENDAR
VERSION:2.0
X-WR-TIMEZONE:Europe/Paris
PRODID:-//Audencia//NONSGML v1.0//EN
CALSCALE:GREGORIAN
BEGIN:VEVENT
SUMMARY:Concert des continents Europa-Afrika 2022 à Vienne
DTSTART:20220519T190000
DTEND:20220519T210000
UID:1262
DTSTAMP:20260425T210438
LOCATION:Musikverein Musikvereinsplatz Vienne
DESCRIPTION:Concert des continents, Europa-Afrika 2022\nFrance Alumni Autriche vous propose de gagner 10 places pour le « Concert des continents, Europa-Afrika 2022 ». Ce dernier se tiendra au Musikverein à Vienne le 19 mai à 19h et est organisé par l'Institut français d'Autriche dans le cadre de la Présidence française du conseil de l’Union Européenne. \n\nPour participer, rien de plus simple, il suffit de remplir ce formulaire.\n\nLes gagnants seront tirés au sort et avertis par mail s’ils ont gagné le 20 avril.\n\nPour plus d'informations:\n\n\n\n\n
BEGIN:VALARM
ACTION:DISPLAY
TRIGGER:-PT60M
DESCRIPTION:Concert des continents Europa-Afrika 2022 à Vienne
END:VALARM
END:VEVENT
END:VCALENDAR