BEGIN:VCALENDAR
VERSION:2.0
X-WR-TIMEZONE:Europe/Paris
PRODID:-//Audencia//NONSGML v1.0//EN
CALSCALE:GREGORIAN
BEGIN:VEVENT
SUMMARY:Dinner with Class Ambassadors 2020
DTSTART:20220520T190000
DTEND:20220520T213000
UID:1261
DTSTAMP:20260425T210604
LOCATION:TBC
DESCRIPTION:\nClass Ambassadors of 2020 are cordially invited to a dinner on Friday 20 May at 7pm.\nThe restaurant details will be communicated shortly.
BEGIN:VALARM
ACTION:DISPLAY
TRIGGER:-PT60M
DESCRIPTION:Dinner with Class Ambassadors 2020
END:VALARM
END:VEVENT
END:VCALENDAR