BEGIN:VCALENDAR
VERSION:2.0
X-WR-TIMEZONE:Europe/Paris
PRODID:-//Audencia//NONSGML v1.0//EN
CALSCALE:GREGORIAN
BEGIN:VEVENT
SUMMARY:Chapter Barcelona : Afterwork with Audencia's Agnès Boissière
DTSTART:20220518T190000
DTEND:20220518T213000
UID:1260
DTSTAMP:20260425T210209
LOCATION:Pokawaï, Carrer del Bruc, 80,  08009 Barcelona
DESCRIPTION:\nOn the occasion of Agnès Boissière's visit to Barcelona as Head of Audencia's Career Center, alumni are invited to join her for an informal afterwork on:\n \n\n	Date: Wednesday 18 May\n	Time: 7pm-9:30pm\n	At: Pokawaï, Carrer del Bruc, 80, 08009 Barcelona\n\n\nThis will be a great opportunity to catch up with all the latest news of Audencia and share stories with Agnès about your home city of Barcelona!\n\n\n \n\nQuestions : nushad.merchant@audencia.com
BEGIN:VALARM
ACTION:DISPLAY
TRIGGER:-PT60M
DESCRIPTION:Chapter Barcelona : Afterwork with Audencia's Agnès Boissière
END:VALARM
END:VEVENT
END:VCALENDAR