BEGIN:VCALENDAR
VERSION:2.0
X-WR-TIMEZONE:Europe/Paris
PRODID:-//Audencia//NONSGML v1.0//EN
CALSCALE:GREGORIAN
BEGIN:VEVENT
SUMMARY:Ontario AAGEF: online conference
DTSTART:20220427T180000
DTEND:20220427T200000
UID:1257
DTSTAMP:20260425T210407
LOCATION:
DESCRIPTION:The evolution of Systra Canada\nSYSTRA is a French Company with an International footprint that is #3 in the world in Rail Engineering.  SYSTRA has been in Canada for 30 years, and  in the last four years the revenue has doubled, Dave Spagnolo will share a little more about SYSTRA Canada and how it became relevant in the past four years.\n\nDave Spagnolo has 20 years experience running French Companies in Canada.  He started his career as a Marine Systems Engineering Officer in Canada’s Navy. In Jan 2018, Dave joined SYSTRA to lead the Canadian team as President and CEO\n\nAgenda of this online event on zoom :\n- 6.00 PM: Welcome and intro  \n- 6.10 to 6.45 PM: Presentation and Q&A  \n- 6.45 PM to 8.00 PM: Networking in breakout sessions\n\n \nTo receive your zoom link and code to join the event\nplease register here\n\n\n \n\n\n \n\nAAGEF Ontario, with over 2,000 executives, is a networking association of French Elite Graduate Schools alumni, living and working in Ontario. We also welcome Ontario-based alumni of Canadian and global Elite Universities. \nFollow us on LinkedIn: https://www.linkedin.com/company/72309514 \n\n 
BEGIN:VALARM
ACTION:DISPLAY
TRIGGER:-PT60M
DESCRIPTION:Ontario AAGEF: online conference
END:VALARM
END:VEVENT
END:VCALENDAR