BEGIN:VCALENDAR
VERSION:2.0
X-WR-TIMEZONE:Europe/Paris
PRODID:-//Audencia//NONSGML v1.0//EN
CALSCALE:GREGORIAN
BEGIN:VEVENT
SUMMARY:CCI France Chine Webinar: Metaverses: myths & realities
DTSTART:20220427T123000
DTEND:20220427T140000
UID:1256
DTSTAMP:20260425T205909
LOCATION:
DESCRIPTION:Metaverse is an ill-defined concept that creates a lot of buzz. Some companies are trying to catch the train before it leaves the station, but where is it going? How much of the economy can shift to the metaverse? How fast? Should companies get on as early as possible or wait for the dust to settle?  \n\nThis event:\nClassifies the different types of Metaverses\nReviews and scores major Metaverses\nAnalyses the viability of the current business models\nDetails current opportunities available at this stage\n\nThis presentation does not require any prior knowledge of blockchain, digital currencies, or NFT. It aims at explaining, in business terms, what are the potential opportunities of these new technologies.\n\nThe presenters actually went and visited the major Metaverses, to bring you an unfiltered analysis, free of the hype, the buzz, and the overinflation.\n\nLanguage: English\nTime: Wednesday, April 27th, 2022; 18:30-20:00 in China / 12:30-14:00 in France\nFee: Free for CCI FRANCE CHINE members & Audencia Alumni\nLocation:  Webinar (The connection information will be sent by e-mail after the registration)\nRegistration: Scan the following QR code or click here\n
BEGIN:VALARM
ACTION:DISPLAY
TRIGGER:-PT60M
DESCRIPTION:CCI France Chine Webinar: Metaverses: myths & realities
END:VALARM
END:VEVENT
END:VCALENDAR