BEGIN:VCALENDAR
VERSION:2.0
X-WR-TIMEZONE:Europe/Paris
PRODID:-//Audencia//NONSGML v1.0//EN
CALSCALE:GREGORIAN
BEGIN:VEVENT
SUMMARY:Club Culture & Management : Une révolution dans le monde de l'art ?
DTSTART:20220421T190000
DTEND:20220421T210000
UID:1252
DTSTAMP:20260425T210048
LOCATION:Beaux Arts & Cie - Beaux Arts Magazine Boulevard de la Madeleine Paris
DESCRIPTION:69,3 millions de dollars ! C’est le montant auquel a été vendu  chez Christie’s « Everydays: the First 5.000 Days » de l’artiste Peeble, une œuvre NFT ou « non-fungible token ». Ces jetons non-fongibles, donc uniques et non interchangeables, basés sur le système de la blockchain, sont en train de révolutionner le marché de l’art mais pas uniquement. Au cours de ce débat nous verrons que l’art contemporain mais également les grandes institutions telles que la Galerie des Offices se lancent dans la vente d’exemplaires numériques de leurs plus grands chefs-d’œuvre.\n\nNouveau débouché pour les artistes, nouvelle manne financière pour des musées fragilisés ou simple bulle spéculative ? Avec nos invités, nous essaierons d’analyser cet engouement, de décrypter son fonctionnement et autres questions que les NFT liés à l’art soulèvent. \n\n\nIntervenants\n\n\n	\n	Marion Carré, Co-fondatrice et Présidente d'Ask Mona\n	\n	\n	Jean-Baptiste Costa, Directeur général délégué de Beaux Arts & Cie et Directeur d'investissement chez Art Nova\n	\n	\n	Julien Dumon, Directeur du Digital et du Développement à la Sacem\n	\n	\n	Omer Pesquer, consultant spécialiste des technologies et usages liés au numérique dans le secteur culturel\n	\n\n\n\nModérateurs\n\nAnne-Sophie Douillet, UNICEF France/Chargée des partenariats entreprises, Trésorière c&m\n\n\nMODALITÉS D'ACCUEIL EN PRÉSENTIEL :\n- les débats commencent à 19h, l'accueil se fait à partir de 18h30\n- si vous bénéficiez d'un tarif spécial (tarif chômeur ou tarif étudiant à 15€), vous devrez nous présenter un justificatif de moins de 3 mois\n\nRAPPEL : candidatez au PICEM aant le 24 avril !\n\nVous êtes une jeune pousse de l'entrepreneuriat culturel ? Participez à cette toute nouvelle édition du Prix Innovation C&M qui vise à promouvoir l'innovation et l'entrepreneuriat dans le secteur culturel.\n\nCandidatez dès maintenant !\n\nÀ la clé : un accompagnement par des professionnels expérimentés, une mise en relation avec des professionnels boosters et une couverture médiatique aurès de nos partenaires.\n\nAu plaisir de vous retrouver,\nL'équipe du Club Culture & Management\n \n\nInscriptions\n \n\n\n\n 
BEGIN:VALARM
ACTION:DISPLAY
TRIGGER:-PT60M
DESCRIPTION:Club Culture & Management : Une révolution dans le monde de l'art ?
END:VALARM
END:VEVENT
END:VCALENDAR