BEGIN:VCALENDAR
VERSION:2.0
X-WR-TIMEZONE:Europe/Paris
PRODID:-//Audencia//NONSGML v1.0//EN
CALSCALE:GREGORIAN
BEGIN:VEVENT
SUMMARY:Webinar: The human-centric workplace: enabling people, communities, and our planet to thrive
DTSTART:20220426T130000
DTEND:20220426T140000
UID:1250
DTSTAMP:20260425T210124
LOCATION:
DESCRIPTION:AMBA webinar "The Human-centric workplace: enabling people, communities, and our planet to thrive"\n\nDate: 26 April 2022\nTime: 13:00 to 14:00 Paris time\n\nWhat does it mean to be human?\nWhat does it mean to be a human at work?\n\nThe answer to these questions should not be dissimilar – to have a purpose, to connect and to feel. And yet organisational cultures still do not embrace people bringing their whole selves to work. If we are not showing up, not bringing our whole awesome selves, we are not thriving; we are hiding. \n\nThe workplace and leadership are the root causes and fuel of so many societal issues – from wellbeing, the economy, inequality, and the climate.\n\nFollowing a year of an international and large-scale remote working experiment, not many would argue against work not being somewhere we go but being what we do and the why we do it.\n\nThe Human-Centric Workplace is about highlighting that we can do better, and we must do better. There are numerous ideas and theories about how and why people are what make organisations thrive (or expire) and yet we still fail to ensure organisations are human-centric.\n\nThis all starts with leadership as you will find out in this exclusive AMBA members’ webinar.\nAbout our speaker\nWith 15 years of experience working within Workplace and Facilities Management, an MBA and a multitude of industry qualifications, Simone Fenton-Jarvis has shaped and nurtured her passion for human-centric workplaces.\nSimone is a fellow of Institute of Workplace and Facilities Management (IWFM), the Chair of the IWFM Workspace Special Interest Group, she sits on the editorial committee for Facilitate Magazine and Facilities Management Journal and mentors several people.\nSimone is the author of, The Human-Centric Workplace,  an active speaker and blogger in key areas including human-centric workplaces, mental health, leadership, culture, technology, ways of working, and diversity and Inclusion.\nFocusing on employee experience, organizational performance, data gathering, change management and business improvement in relation to culture, space, process and technology, Simone wakes up every day on a mission to drive a world where organisations become the vehicle for people and societies to thrive, resulting in us all leaving the planet a better place than when we arrived.\n \nTo join the webinar\nREGISTER HERE\n \n\nDid you graduate from an AMBA-accredited programme at Audencia?\nThis webinar is accessible to students or alumni of an AMBA-accredited programme at Audencia, i.e., Executive MBA, EuroMBA, Full-Time MBA or Master in Management (Grande Ecole Programme), but registration is required. Registering as an alum of an AMBA-accredited programme takes only a few minutes.\n\nThis event is free for AMBA members to attend but registration is required using the link above.\n \n
BEGIN:VALARM
ACTION:DISPLAY
TRIGGER:-PT60M
DESCRIPTION:Webinar: The human-centric workplace: enabling people, communities, and our planet to thrive
END:VALARM
END:VEVENT
END:VCALENDAR