BEGIN:VCALENDAR
VERSION:2.0
X-WR-TIMEZONE:Europe/Paris
PRODID:-//Audencia//NONSGML v1.0//EN
CALSCALE:GREGORIAN
BEGIN:VEVENT
SUMMARY:AAGEF wine pairing dinner in New York, USA
DTSTART:20171103T183000
DTEND:20171103T220000
UID:125
DTSTAMP:20260425T210047
LOCATION:Benoit Bistro 60 W 55th St New York, NY 10019
DESCRIPTION:Join alumni from French Grandes Ecoles on November 3rd for an exclusive wine pairing dinner in Midtown Manhattan at Benoit bistro featuring Margaux wines from Château Kirwan.\n\nThe cocktail will be followed by a 3 course menu with wine pairing from Château Kirwan, Margaux, 1996, 2008, 2012 and 2014\nThe aperitif will start at 18.30\nThe dinner will start at 19.30\n \nRegister here!
BEGIN:VALARM
ACTION:DISPLAY
TRIGGER:-PT60M
DESCRIPTION:AAGEF wine pairing dinner in New York, USA
END:VALARM
END:VEVENT
END:VCALENDAR