BEGIN:VCALENDAR
VERSION:2.0
X-WR-TIMEZONE:Europe/Paris
PRODID:-//Audencia//NONSGML v1.0//EN
CALSCALE:GREGORIAN
BEGIN:VEVENT
SUMMARY:Londres: afterwork à la nantaise
DTSTART:20220427T180000
DTEND:20220427T200000
UID:1247
DTSTAMP:20260425T210143
LOCATION:« Le Bar » Club Gascon 59 West Smithfield London EC1A 9DS
DESCRIPTION:Pour toutes celles et ceux qui envisagent de s’installer à NANTES ou qui souhaitent en savoir davantage sur la ville et son dynamisme … venez rencontrer l’équipe de Nantes Saint-Nazaire Développement, et partager un moment convivial autour d'un verre et de spécialités locales.\n \nRendez-vous le mercredi 27 avril à 18h00   \n« Le Bar » Club Gascon\n59 West Smithfield\nLondon EC1A 9DS\nhttps://www.clubgascon.com/le-bar\n \n\n>> S’inscrire pour participer à l’événement\n \nEnvie de découvrir NANTES, « ville la plus déjantée de France » ?\nIl faut croire que l’esprit aventureux et innovant de Jules Verne flotte encore au-dessus de nos têtes et inspire les créatifs.\nA Nantes, chacun cultive son originalité pour répondre aux enjeux sociaux et environnementaux, avec ce fameux “pas de côté” caractéristique de l’esprit nantais.\nQuand le Sunday Times dit de nous que nous sommes les plus déjantés de France, c’est parce que notre inventivité n’a pas de limite, d’autant plus quand il s’agit de la mettre au service de projets à impact…\n\nUn exemple ?\nNotre éléphant de 48 tonnes qui vous emmène dans une promenade autour de l’Ile de Nantes. Le pachyderme né de l’imagination de Royal de Luxe, troupe de théâtre de rue mondialement connue, dont les machines géantes ont aussi déambulé dans les rues de Londres.\n\nIls sont ici \nDans la ville de naissance de Jules Verne, située à l’ouest de la France, le contexte culturel bouillonnant est un terrain de jeu propice à la naissance d'idées et de réalisations engagées.\n« En arrivant ici, j’ai tout de suite été séduit par l’ouverture d’esprit des gens, par cette énergie et ce magnétisme propice à l’innovation ». Benoit Sanson, co-fondateur de l’agence d’architecture 31/44, installé à Nantes depuis 2 ans avec sa famille.\nOu pour Rob Spiro, fondateur d’Imagination Machine, selon qui Nantes conjugue à la fois qualité de vie et opportunités de business, avec sa douzaine d’incubateurs et la centaine de startups. « J'aime l’idée que beaucoup de gens vivent à Nantes parce qu’ils l’ont choisi. L’idée de l’impact for good est partagée par beaucoup d’entrepreneurs à Nantes et c’est ce que j’aime dans cette ville. Il y a ici un esprit de communauté entre les chefs d’entreprise » (citation du magazine Monocle).\n \nA propos de Nantes Saint-Nazaire Développement\nL'agence Nantes Saint-Nazaire Développement a pour vocation de travailler au développement économique responsable du territoire de Nantes et Saint-Nazaire. Elle œuvre pour attirer les entreprises françaises et internationales issues des filières d'excellence du territoire, qui créent de la valeur ajoutée en termes de transitions économiques, écologiques et sociales. Elle facilite leur implantation et celles de leurs collaborateurs et familles en leur offrant une multitude de services de la phase de recherche à la réalisation de leur installation. Elle les aide notamment dans leur recherche immobilière, les accompagne dans la mise en relation avec les réseaux professionnels et le recrutement de leurs équipes, appuie leur communication sur l'installation de leur entreprise sur le territoire. Ce sont 32 entreprises à impact qui ont été accompagnées dans leur installation en 2021.\n \nAu total, l’agence Nantes Saint-Nazaire Développement a accompagné plus de 600 entreprises depuis 7 ans, notamment dans les filières stratégiques du territoire telles que les activités numériques, l'industrie durable (énergies nouvelles, transport à la voile et nautisme), les industries créatives ou encore la santé. Depuis sa création, l'agence a contribué ainsi à la création de plus de 7.500 emplois dans la région. Financée par Nantes Métropole, la Communauté d'agglomération de la région nazairienne (CARENE) et la CCI Nantes St-Nazaire, elle est dirigée par Nicolas Debon et compte aujourd'hui 30 collaborateurs. \nSite internet : www.nantes-saintnazaire.fr\n \n
BEGIN:VALARM
ACTION:DISPLAY
TRIGGER:-PT60M
DESCRIPTION:Londres: afterwork à la nantaise
END:VALARM
END:VEVENT
END:VCALENDAR