BEGIN:VCALENDAR
VERSION:2.0
X-WR-TIMEZONE:Europe/Paris
PRODID:-//Audencia//NONSGML v1.0//EN
CALSCALE:GREGORIAN
BEGIN:VEVENT
SUMMARY:Guided tour of the Parliament of Luxembourg
DTSTART:20220419T183000
DTEND:20220419T200000
UID:1246
DTSTAMP:20260425T210143
LOCATION:19 rue du Marché-aux-Herbes Luxembourg
DESCRIPTION:Thanks to alumna Erica Van Ossel-Leclercq SCom 02), lucky alumni in Luxembourg are invited by the SHULU alumni association to their event Tuesday 19 April at 18:30. It includes a tour of the parliament and dinner at Bazaar with a deputy and an entrepreneur!\n\nDate: Tuesday, 19 April 2022\nArrival & security: 18:30 - 18:45\nVisit: 18:45 - 20:00 [19 r. du Marché-aux-Herbes, 1728 Luxembourg]\nDinner*: - 20:00 - 22:00 in the company of MP Claude Wiseler and entrepreneur Clara Moraru.\n\nA participation of 5€ will be asked of participants to go towards funding future SHULU activities.\n\n*Dinner is at the participant's own cost\n\nCLICK HERE TO REGISTER\n\nDeadline for registration: 12 April 2022\n\nRegistration is mandatory, because: \n1) Max capacity - 70 people.\n2) We will reserve seats at Bazaar bar & restaurant (https://www.bazaar.lu/en/) accordingly.\n \n\n\n\n\nOther information: \n\n	Please carry a valid ID proof (*Name must match the registration name)\n	There are NO lockers, so just bring what you can carry at all times with you.\n	There is a security post from 6.30 to 6.45 when your bags will be checked; weapons or other dangerous items will not be allowed.\n	Pictures can be taken at all times, except in the security area.\n\n\n
BEGIN:VALARM
ACTION:DISPLAY
TRIGGER:-PT60M
DESCRIPTION:Guided tour of the Parliament of Luxembourg
END:VALARM
END:VEVENT
END:VCALENDAR