BEGIN:VCALENDAR
VERSION:2.0
X-WR-TIMEZONE:Europe/Paris
PRODID:-//Audencia//NONSGML v1.0//EN
CALSCALE:GREGORIAN
BEGIN:VEVENT
SUMMARY:CCI France Chine Webinar avec M. l'Ambassadeur: Point sur la situation sanitaire, la préparation des échéances électorales et les relations bilatérales
DTSTART:20220406T113000
DTEND:20220406T123000
UID:1242
DTSTAMP:20260425T210539
LOCATION:
DESCRIPTION:                              \n\nLa CCI FRANCE CHINE et l'Ambassade de France en Chine vous proposent un nouveau point sur l'actualité politique et économique, le Mercredi 6 Avril à partir de 17h00. La conférence et le webinar débuteront à 17h30 (Heure de Chine GMT+8).\n\n\nM. Laurent BILI, Ambassadeur de France en Chine, M. Jean-Marc FENET, Ministre Conseiller pour les Affaires Economiques à l'Ambassade de France en Chine et M. Benoît GUIDEE, Consul Général de France à Shanghai, reviendront sur la situation sanitaire à Shanghai ainsi que sur les actions mises en place pour accompagner la communauté dans son ensemble et répondront à vos questions.\n\nPour participer et poser vos questions, merci de remplir le formulaire d'inscription.\n\n\nDate : Mercredi 6 Avril 2022\n\nHoraire : (heure de Chine GMT+8 ) \n\n\n	17h00 : Accueil\n	17h30 : Début de la conférence/webinaire\n	18h30 : Cocktail\n\n\nLangue : Français\n\nPrix : Gratuit\n\nParticipation : Webinaire ouvert à tous. Présentiel réservé aux membres de la CCI FRANCE CHINE.\n\nLieu : CCI FRANCE CHINE Beijing Office  2F, Building 81, No 4 Gongti North Road, Chaoyang District, Beijing 100027, P.R.C\n\nWebinaire : Les informations de connexion seront communiquées par email, après inscription, quelques jours avant l'événement.
BEGIN:VALARM
ACTION:DISPLAY
TRIGGER:-PT60M
DESCRIPTION:CCI France Chine Webinar avec M. l'Ambassadeur: Point sur la situation sanitaire, la préparation des échéances électorales et les relations bilatérales
END:VALARM
END:VEVENT
END:VCALENDAR