BEGIN:VCALENDAR
VERSION:2.0
X-WR-TIMEZONE:Europe/Paris
PRODID:-//Audencia//NONSGML v1.0//EN
CALSCALE:GREGORIAN
BEGIN:VEVENT
SUMMARY:Appel à participation ! Atelier : " créer,  engager et animer une communauté"
DTSTART:20171130T193000
DTEND:20171130T230000
UID:124
DTSTAMP:20260425T205718
LOCATION:Campus Paris - 95 rue Falguière - Paris 15ème métro : Volontaires et Pasteur  bus : arrêt Institut Pasteur : 95 et 88
DESCRIPTION:\nChers amis et adhérents du club marketing,\n\n\nA l'heure de l'infobésité et de la surabondance de sollicitations, nous souhaitons renforcer les liens entre membres du club, qu’ils soient digitaux ou autour d'un verre. Nous pensons que nous avons beaucoup à apprendre les uns des autres et tout à gagner des échanges entre nous.\n\nNous vous proposons donc de nous rejoindre le 30 novembre, pour un atelier participatif & convivial sur ce sujet, suivi d’un temps de networking, autour d’un verre. Venez nombreux pour contribuer, apporter votre point de vue, vos attentes, vos idées.\nAirBnB, Blablacar, La Ruche qui dit Oui... pour de nombreuses start-ups  créer, développer et animer une communauté a été une clé du succès.\n\nCela l'est tout autant pour le club marketing Audencia Alumni qui ne peut pas exister sans votre présence et votre dynamique. Aujourd’hui nous faisons appel à vous, à votre énergie, et vous proposons de nous aider sur ce sujet. \nA quelles communautés  appartenez vous ? Qu'en attendez vous ? Dans lesquelles êtes vous actifs ? Quelles idées pour le club marketing ?\nAppliqué à la thématique du club marketing, la vocation de cet atelier est aussi de nous donner des éléments concrets sur le sujet des communautés, plus ou moins virtuelles, qui nous concerne tous.\n\nAu programme de la soirée :\nComment engager (ou réengager) les membres du club ? Comment les impliquer et faire grandir la communauté de manière durable ?\nNetworking, enrichissement des connaissances, opportunités professionnelles... quels services attendre et apporter à la communauté ?\nTogether, Facebook, LinkedIn, sur quels outils et réseaux sociaux nous appuyer et relayer l'activité ? Quels sont  vos envies et besoins ?\nQuelles thématiques professionnelles approfondir et relayer ? Comment renforcer  les liens entre les membres du clubs ?\n\nCet atelier participatif aura lieu de 19h30 à 21h et se poursuivra autour d'un cocktail dinatoire.\n 
BEGIN:VALARM
ACTION:DISPLAY
TRIGGER:-PT60M
DESCRIPTION:Appel à participation ! Atelier : " créer,  engager et animer une communauté"
END:VALARM
END:VEVENT
END:VCALENDAR