BEGIN:VCALENDAR
VERSION:2.0
X-WR-TIMEZONE:Europe/Paris
PRODID:-//Audencia//NONSGML v1.0//EN
CALSCALE:GREGORIAN
BEGIN:VEVENT
SUMMARY:Conférence Isegoria - Comment le groupe La Poste fait-il face aux nouveaux enjeux du numérique et de l'environnement ?
DTSTART:20220406T183000
DTEND:20220406T203000
UID:1239
DTSTAMP:20260425T210206
LOCATION:Mediacampus - Espace Agora  ou sur Twitch Audencia TV
DESCRIPTION:Nous avons le plaisir de vous inviter à la prochaine conférence d'Isegoria by #Mediacampus. Pour l'occasion, nous recevons Eric Trousset, Directeur des relations externes de la Business Unit Média du groupe La Poste, sur le thème :\n \nComment le groupe La Poste fait-il face aux\nnouveaux enjeux du numérique et de l'environnement ?\n \nLa conférence aura lieu dans l'espace Agora du Mediacampus et sera diffusée sur Twitch Audencia TV.\n\n\n	\n		\n			\n			\n				\n					\n						\n						\n							\n								\n									\n									\n										\n											\n												\n												\n													\n														\n															\n														\n													\n												\n												\n											\n										\n									\n									\n									\n									\n										\n											\n												Eric TROUSSET\n											\n										\n									\n									 \n\n									\n										\n											\n												Eric Trousset évolue au sein du groupe La Poste depuis 12 ans maintenant après diverses expériences dans l’industrie des Médias (TF1, Kantar…). Il a été récemment nommé Directeur des relations externes de la Business Unit (BU) média du groupe. Cette dernière, propose des solutions d’accompagnement aux entreprises dans la digitalisation de leurs activités, au travers des filiales du groupe La Poste.\n												Eric Trousset est également Président de l'IREP, Institut de Recherches et d'Etudes Publicitaires.\n												 \n												Nous connaissons La Poste, notamment pour la livraison de courriers et l'emploi de postiers. Mais les enjeux du digital ont bouleversé les activités du groupe. L'email, la digitalisation des services de l'Etat, et plus généralement l'avènement du numérique dans notre économie, ont poussé La Poste à s'adapter, comme de nombreuses entreprises, à ces nouveaux modes de fonctionnement.\n												Comment le groupe La Poste a su se renouveler face à ces nouveaux enjeux ? Comment est-il devenu moteur dans la digitalisation des entreprises ? L'empreinte carbone des activités est-elle liée à une préoccupation interne majeure ?\n												Eric Trousset sera là pour répondre à toutes nos questions.\n											\n										\n									\n									\n								\n							\n						\n						\n					\n				\n			\n			\n		\n	\n\n \n\n\n	\n		\n			Nous vous invitons à partager ce temps d'échanges avec Eric Trousset, \n			n'hésitez pas à en faire profiter votre entourage !\n			\n			Évènement gratuit \n			Contact : events@audencia.com\n			 \n			S'INSCRIRE AU LIVE TWITCH\n\n			 \n			\n		\n	\n\n\nS'INSCRIRE EN PRESENTIEL
BEGIN:VALARM
ACTION:DISPLAY
TRIGGER:-PT60M
DESCRIPTION:Conférence Isegoria - Comment le groupe La Poste fait-il face aux nouveaux enjeux du numérique et de l'environnement ?
END:VALARM
END:VEVENT
END:VCALENDAR