BEGIN:VCALENDAR
VERSION:2.0
X-WR-TIMEZONE:Europe/Paris
PRODID:-//Audencia//NONSGML v1.0//EN
CALSCALE:GREGORIAN
BEGIN:VEVENT
SUMMARY:Launch of "Go France!" guide in Nantes
DTSTART:20220426T180000
DTEND:20220426T203000
UID:1237
DTSTAMP:20260425T224934
LOCATION:Audencia Route de la Jonelière Nantes
DESCRIPTION:Launch of “Go France!” guide\n26 April\n \nDear students, \n  \nWe are delighted to invite you to the launch of the second edition of “Go France!”, the guide for international students looking to intern and/or work in France. \n \nConceptualized and compiled by Audencia’s Career Center and Alumni team, “Go France!” is a valuable career resource. This guide showcases the experiences of 20 international alumni who have aced the challenge of finding an internship and/or a job in France along with top tips from recruiters.  \n\nDuring the launch of the Go France! guide on 26 April:\n\n\n	Olga Kapitskaia, director of all international masters, will be present\n	We will have a roundtable discussion on “Myths & Realities of working in France” conducted by our international career consultant Shyla du Cosquer\n	On the panel we will have: Amin Valizadeh (MSc IM 2020) and HR from TheChinaStudio (and another company and alumni)\n\n\nSo do not miss this opportunity to interact with HR, alumni and career consultants. Join us on Tuesday 26 April from 6pm to 8.30pm in the Forum for the roundtable chat and cocktails and walk away with a copy of the freshly printed guide. \n \nRegistrations are compulsory to attend this event.\n  \nWe look forward to meeting you!\nAudencia Career Center & Audencia Alumni Team\n\n\n\n \n\nQuestions? : nushad.merchant@audencia.com
BEGIN:VALARM
ACTION:DISPLAY
TRIGGER:-PT60M
DESCRIPTION:Launch of "Go France!" guide in Nantes
END:VALARM
END:VEVENT
END:VCALENDAR