BEGIN:VCALENDAR
VERSION:2.0
X-WR-TIMEZONE:Europe/Paris
PRODID:-//Audencia//NONSGML v1.0//EN
CALSCALE:GREGORIAN
BEGIN:VEVENT
SUMMARY:Launch of “Go France!” guide in Paris
DTSTART:20220505T193000
DTEND:20220505T223000
UID:1236
DTSTAMP:20260425T210117
LOCATION:Audencia Paris 95 Rue Falguière 75015 Paris
DESCRIPTION: \n\n Dear international alumni, \n  \nWe are delighted to invite you to the launch of the second edition of “Go France!”, the guide for international students looking to intern and/or work in France on Thursday, 5 May at 7.30 pm on the Paris campus. \n \nConceptualized and compiled by Audencia’s Career Center and Alumni team, “Go France!” is a valuable career resource. This guide showcases the experiences of 20 international alumni who have aced the challenge of finding an internship and/or a job in France along with top tips from recruiters.  \n\nShyla du Cosquer from the Career Center will be moderating a dicussion on roundtable discussion on "Insights and trends of the 2022 workplace" with our esteemed panelists:\n✨ Frédérique Clappier, VP HR & Diversity, Digimind\n✨ Alizée Nadal, Talent Acquisition Manager, L'Oréal\n✨ Briana Dilworth, Creative Marketing Manager, lempire (MSc IM 2020) \n✨ Ana María Olaya Vargas, Director Strategy Pricing & Interchange, Mastercard (MSc IM 2015) \n✨ Ashok Azhagarasan, Head of Growth, OSS Ventures (MBA 2020)\n  \nCome join us for an evening of round table conversation and walk away with a copy of the freshly printed guide. At this event, you will also get the opportunity to meet with a few alumni who have contributed to the guide as well as companies that have worked with us. \n \nPlease feel free to extend this invitation to your HR colleagues. \n \nRegistrations are compulsory.\n  \nWe look forward to meeting you at the event. \nAudencia Career Center  & Audencia Alumni Team\n\n\n\n \n\nQuestions?: nushad.merchant@audencia.com\n\n\n 
BEGIN:VALARM
ACTION:DISPLAY
TRIGGER:-PT60M
DESCRIPTION:Launch of “Go France!” guide in Paris
END:VALARM
END:VEVENT
END:VCALENDAR