BEGIN:VCALENDAR
VERSION:2.0
X-WR-TIMEZONE:Europe/Paris
PRODID:-//Audencia//NONSGML v1.0//EN
CALSCALE:GREGORIAN
BEGIN:VEVENT
SUMMARY:Club Culture & Management : Rencontrez les anciens lauréats - prix innovation 2022 - salon museum connections
DTSTART:20220330T120000
DTEND:20220330T130000
UID:1233
DTSTAMP:20260425T210051
LOCATION:Parc des expositions de la Porte de Versailles
DESCRIPTION:À l'occasion du salon Museum Connections, Culture & Management fera intervenir plusieurs lauréats du Prix Innovation des années précédentes. Lors d'une interview, ils présenteront leurs startups, leurs débuts et les opportunités que leur a ouvertes le Prix.\n\nUn témoignage riche pour les startups qui candidatent cette année !\n\nLa conférence aura lieu le 30/03 entre 12h et 13h et sera diffusée en ligne.\n\n \n\nIntervenants\n\n\n	\n	Géraldine ALIBERTI \n	Sonic Solveig, Fondatrice\n	\n	\n	Sébastien AMIGAS \n	Virtual Access, Fondateur\n	\n	\n	Christian CLARKE DE DROMANTIN (Patrivia, Fondateur\n	\n\n\n \n\nModérateurs\n\n\n	\n	Théophile Anglès d'Auriac \n	Responsable du Prix Innovation Culture & Management\n	\n	\n	Laurène Barbaroux \n	Responsable du Prix Innovation Culture & Management\n	\n\n\n \n\nInscriptions => https://bit.ly/3Ns1eRs\n \n\n\n\n 
BEGIN:VALARM
ACTION:DISPLAY
TRIGGER:-PT60M
DESCRIPTION:Club Culture & Management : Rencontrez les anciens lauréats - prix innovation 2022 - salon museum connections
END:VALARM
END:VEVENT
END:VCALENDAR